BEGIN:VCALENDAR
VERSION:2.0
PRODID:-//Deutsche TUINA Akademie - ECPv5.3.1.1//NONSGML v1.0//EN
CALSCALE:GREGORIAN
METHOD:PUBLISH
X-WR-CALNAME:Deutsche TUINA Akademie
X-ORIGINAL-URL:http://wp.schulungshaeuser.de
X-WR-CALDESC:Veranstaltungen für Deutsche TUINA Akademie
BEGIN:VTIMEZONE
TZID:Europe/Paris
BEGIN:DAYLIGHT
TZOFFSETFROM:+0100
TZOFFSETTO:+0200
TZNAME:CEST
DTSTART:20180325T010000
END:DAYLIGHT
BEGIN:STANDARD
TZOFFSETFROM:+0200
TZOFFSETTO:+0100
TZNAME:CET
DTSTART:20181028T010000
END:STANDARD
END:VTIMEZONE
BEGIN:VEVENT
DTSTART;VALUE=DATE:20180310
DTEND;VALUE=DATE:20180312
DTSTAMP:20260422T114350
CREATED:20170612T170141Z
LAST-MODIFIED:20170614T105358Z
UID:1742-1520640000-1520812799@wp.schulungshaeuser.de
SUMMARY:Schön und Vital
DESCRIPTION:Das wahre Schönheit von Innen kommt\, ist allgemein bekannt. Lebenspflege ist ein Kernpunkt der Traditionellen Chinesischen Medizin (TCM). Ein achtsamer Umgang mit der Lebensenergie ermöglicht Schön und Vital zu sein. Vor dem Hintergrund der TCM kann man schädigende Verhaltensmuster leicht erkennen und bewusst ausgleichen. Die TCM kennt einfache und wirksame Strategien zur Schönheitspflege. Schwerpunkt dieses Kurses sind Massagetechniken in Kombination mit Kräuter- und Aromaöl - Anwendungen. Die Durchblutung des gesamten Körpers wird verbessert\, die Organe entlastet\, das Gewebe gestrafft. Die natürliche Regenerationsfähigkeit des Organismus wird gestärkt\, das körperliche und seelische Wohlbefinden gesteigert. \nKursinhalt\n• Objektive und subjektive Definition der Schönheit - Physiologische und energetische Zusammenhänge • Haut und Augen - Spiegel der Seele aus Sicht der TCM • TCM Strategien zur Schönheitspflege - lösen\, ausleiten\, reinigen\, nähren\, straffen • Techniken für Faltenreduktion und Kontourendefinition • Techniken für die Problemzonen - Oberarme\, Oberschenkel\, Bauch • Regulierende Massage- und Akupressur-Techniken für den ganzen Körper • Anti-Aging Selbstbehandlung • Individuelle Schwerpunkte erkennen und regulieren • Individuelle und ganzheitliche Anti-Aging-Konzepte erstellen \nFür welche Berufsgruppen ist dieser Kurs geeignet?\nKosmetische Berufe\, Masseure\, Massagetherapeuten- und Praktiker\, Wellnesstherapeuten \nTermin\nSamstag: 10. März 2018 | 09:00 bis 18:00 Uhr Sonntag: 11. März 2018 | 09:00 bis 16:00 Uhr \n\n\n\n\n\n\n        \n        \n        \n        \n        \n        Kursanmeldung\n        \n    	\n        \n         [contact-form-7 id="871" title="Kursanmeldung"]
URL:http://wp.schulungshaeuser.de/kurs/schoen-und-vital/
LOCATION:Deutsche TUINA Akademie Königs Wusterhausen\, Dorfstr. 15\, Königs Wusterhausen\, Zernsdorf/OT Kablow Ziegelei\, 15712\, Deutschland
ATTACH;FMTTYPE=image/jpeg:http://wp.schulungshaeuser.de/wp-content/uploads/2017/06/schön-und-vital-1.jpg
END:VEVENT
END:VCALENDAR