BEGIN:VCALENDAR
VERSION:2.0
PRODID:-//Deutsche TUINA Akademie - ECPv5.3.1.1//NONSGML v1.0//EN
CALSCALE:GREGORIAN
METHOD:PUBLISH
X-WR-CALNAME:Deutsche TUINA Akademie
X-ORIGINAL-URL:http://wp.schulungshaeuser.de
X-WR-CALDESC:Veranstaltungen für Deutsche TUINA Akademie
BEGIN:VTIMEZONE
TZID:Europe/Paris
BEGIN:DAYLIGHT
TZOFFSETFROM:+0100
TZOFFSETTO:+0200
TZNAME:CEST
DTSTART:20190331T010000
END:DAYLIGHT
BEGIN:STANDARD
TZOFFSETFROM:+0200
TZOFFSETTO:+0100
TZNAME:CET
DTSTART:20191027T010000
END:STANDARD
END:VTIMEZONE
BEGIN:VEVENT
DTSTART;VALUE=DATE:20191116
DTEND;VALUE=DATE:20191118
DTSTAMP:20260421T155522
CREATED:20160109T153322Z
LAST-MODIFIED:20190601T174625Z
UID:473-1573862400-1574035199@wp.schulungshaeuser.de
SUMMARY:Schröpfen-Therapie
DESCRIPTION:Durch Feuer wird im Schröpfglas ein regional begrenztes\, wärmendes Vakuum auf bestimmte Bereiche der Körperfläche erzeugt. Zur Anwendung kommen meistens Gläser\, in China wurden ursprünglich Bambusrohre verwendet. \nIn Deutschland gehört Schröpfen unter den ausleitenden Verfahren zu Naturheilverfahren. \nIndikationen\n\nInternistische Erkrankungen: Asthma bronchiale\, Diarrhoe\, Obstipation\, Colon irritable\, Refluxösophagitis\, Gastritis\nStützbewegungsapparat: Cervikalsyndrom\, Dorsalgie\, Lumbalgien\, Impingement-Syndrom\, PHS\nPsychosomatische Erkrankungen: Erschöpfungszustände\, Schlafstörungen\, Psychovegetatives Stresssyndrom\nGynäkologische Erkrankungen und Geburtshilfe: Menstruationsbeschwerden\nKinder- und Säuglingserkrankungen: Bronchitis\, Asthma bronchiale\n\nFür welche Berufsgruppen ist dieser Kurs geeignet?\nÄrzte\, Heilpraktiker\, Physiotherapeuten\, Krankengymnasten\, Masseure\, Ergotherapeuten \nTermin\nDeutsche TUINA Akademie  - Berlin \nSamstag: 16. Nov. 2019 | 10:30 bis 18:00 Uhr\nSonntag: 17. Nov. 2019 | 08:30 bis 15:30 Uhr \n  \nKursanmeldung in 3 Schritten: \n\nPDF herunterladen\nAusfüllen und Speichern\nPer Email\, ausgedruckt per Post oder per Fax an uns senden\n\n\n\n\n\n\n\n        \n        \n        \n        \n        \n        Kursanmeldung\n        \n    	\n        \n         Kursanmeldung\n    \n    \n\n\n\n	\nWeitere Kurstermine\n  \nDeutsche TUINA Akademie - Leipzig \nSamstag: 05. Mai 2018 | 09:00 bis 18:00 Uhr Sonntag: 06. Mai 2018 | 09:00 bis 15:00 Uhr \nZur Veranstaltung » \nDeutsche TUINA Akademie - Berlin \nSamstag: 08. Dezember 2018 | 09:00 bis 18:00 Uhr Sonntag: 09. Dezember 2018 | 09:00 bis 15:00 Uhr \nZur Veranstaltung » \n 
URL:http://wp.schulungshaeuser.de/kurs/schroepfen-therapie/
LOCATION:Deutsche TUINA Akademie Berlin\, Mühlenstraße 8 A\, Berlin\, 14167\, Deutschland
CATEGORIES:Berlin,Veranstaltungsort
ATTACH;FMTTYPE=image/jpeg:http://wp.schulungshaeuser.de/wp-content/uploads/2016/01/Schro¦êpfen_004-Kopie.jpg
END:VEVENT
END:VCALENDAR