BEGIN:VCALENDAR
VERSION:2.0
PRODID:-//Deutsche TUINA Akademie - ECPv5.3.1.1//NONSGML v1.0//EN
CALSCALE:GREGORIAN
METHOD:PUBLISH
X-WR-CALNAME:Deutsche TUINA Akademie
X-ORIGINAL-URL:http://wp.schulungshaeuser.de
X-WR-CALDESC:Veranstaltungen für Deutsche TUINA Akademie
BEGIN:VTIMEZONE
TZID:Europe/Paris
BEGIN:DAYLIGHT
TZOFFSETFROM:+0100
TZOFFSETTO:+0200
TZNAME:CEST
DTSTART:20190331T010000
END:DAYLIGHT
BEGIN:STANDARD
TZOFFSETFROM:+0200
TZOFFSETTO:+0100
TZNAME:CET
DTSTART:20191027T010000
END:STANDARD
END:VTIMEZONE
BEGIN:VEVENT
DTSTART;VALUE=DATE:20190301
DTEND;VALUE=DATE:20190304
DTSTAMP:20260423T140816
CREATED:20170612T164727Z
LAST-MODIFIED:20180227T195410Z
UID:1756-1551398400-1551657599@wp.schulungshaeuser.de
SUMMARY:Tibetische Medizin II
DESCRIPTION:Die Tibetische Medizin (TM) gehört zu den ältesten systematischen Medizinsystemen. Sie basiert auf alten medizinischen Lehrschriften\, größten Teils Übersetzungen aus dem Sanskrit (Tantras)\, die auf das Engste mit der Philosophie und Religion des Mahayana-Buddhismus verbunden sind. Ganz ähnlich wie das indische Ayurveda ist die TM eine Drei-Säfte-Lehre\, die auf der Fünf-Elemente-Theorie alter asiatischer Medizinsysteme ruht und die den menschlichen Organismus als Teil eines universellen Systems aus Mikro- und Makrokosmos sieht. Gesundheit wird als harmonisches Eingebundensein in dieses System definiert. Neben einer allumfassenden ganzheitlichen Analyse möglicher Krankheitsursachen spielt in der TM die Therapie mit Heilkräutern (Materia Medica) neben Akupunktur\, Moxibustion\, Astrologie und der Anwendung von Externa\, eine herausragende Rolle. \nKursinhalt Kurs II\n\nWurzeltantra - generelle Diagnostik -\nPulsdiagnostik\, generelle Therapie\nWind-Störungen - Ursachen\, Anamnese\, Pathologie\, Therapie\n\nFür welche Berufsgruppen ist diese Kursserie geeignet?\nÄrzte\, Heilpraktiker\, Physiotherapeuten\, Krankengymnasten\, Masseure\, Ergotherapeuten \nTermin Leipzig (Kurs II)\nFreitag: 14. September 2018 | 17:00 bis 19:00 Uhr  Samstag: 15. September 2018 | 10:00 bis 18:00 Uhr  Sonntag: 16. September 2018 | 09:00 bis 17:00 Uhr \n\n\n\n\n\n\n        \n        \n        \n        \n        \n        Kursanmeldung\n        \n    	\n        \n         [contact-form-7 id="871" title="Kursanmeldung"]
URL:http://wp.schulungshaeuser.de/kurs/tibetische-medizin-ii/
LOCATION:Deutsche TUINA Akademie Königs Wusterhausen\, Dorfstr. 15\, Königs Wusterhausen\, Zernsdorf/OT Kablow Ziegelei\, 15712\, Deutschland
END:VEVENT
END:VCALENDAR