BEGIN:VCALENDAR
VERSION:2.0
PRODID:-//Deutsche TUINA Akademie - ECPv5.3.1.1//NONSGML v1.0//EN
CALSCALE:GREGORIAN
METHOD:PUBLISH
X-WR-CALNAME:Deutsche TUINA Akademie
X-ORIGINAL-URL:http://wp.schulungshaeuser.de
X-WR-CALDESC:Veranstaltungen für Deutsche TUINA Akademie
BEGIN:VTIMEZONE
TZID:Europe/Paris
BEGIN:DAYLIGHT
TZOFFSETFROM:+0100
TZOFFSETTO:+0200
TZNAME:CEST
DTSTART:20180325T010000
END:DAYLIGHT
BEGIN:STANDARD
TZOFFSETFROM:+0200
TZOFFSETTO:+0100
TZNAME:CET
DTSTART:20181028T010000
END:STANDARD
END:VTIMEZONE
BEGIN:VEVENT
DTSTART;VALUE=DATE:20180915
DTEND;VALUE=DATE:20180917
DTSTAMP:20260421T173503
CREATED:20170305T153232Z
LAST-MODIFIED:20170306T172415Z
UID:1575-1536969600-1537142399@wp.schulungshaeuser.de
SUMMARY:Weiterführendes Qigong I
DESCRIPTION:Kursinhalte:\n\nFanhuan Gong Teil 1\nQigong Meditation\n\n\n\n\n\n\n        \n        \n        \n        \n        \n        Kursanmeldung\n        \n    	\n        \n         [contact-form-7 id="871" title="Kursanmeldung"]
URL:http://wp.schulungshaeuser.de/kurs/weiterfuehrendes-qigong-i/
LOCATION:Deutsche TUINA Akademie Königs Wusterhausen\, Dorfstr. 15\, Königs Wusterhausen\, Zernsdorf/OT Kablow Ziegelei\, 15712\, Deutschland
END:VEVENT
END:VCALENDAR