BEGIN:VCALENDAR
VERSION:2.0
PRODID:-//Deutsche TUINA Akademie - ECPv5.3.1.1//NONSGML v1.0//EN
CALSCALE:GREGORIAN
METHOD:PUBLISH
X-WR-CALNAME:Deutsche TUINA Akademie
X-ORIGINAL-URL:http://wp.schulungshaeuser.de
X-WR-CALDESC:Veranstaltungen für Deutsche TUINA Akademie
BEGIN:VTIMEZONE
TZID:Europe/Paris
BEGIN:DAYLIGHT
TZOFFSETFROM:+0100
TZOFFSETTO:+0200
TZNAME:CEST
DTSTART:20190331T010000
END:DAYLIGHT
BEGIN:STANDARD
TZOFFSETFROM:+0200
TZOFFSETTO:+0100
TZNAME:CET
DTSTART:20191027T010000
END:STANDARD
END:VTIMEZONE
BEGIN:VEVENT
DTSTART;VALUE=DATE:20190119
DTEND;VALUE=DATE:20190121
DTSTAMP:20260423T140716
CREATED:20170305T154035Z
LAST-MODIFIED:20170306T172750Z
UID:1579-1547856000-1548028799@wp.schulungshaeuser.de
SUMMARY:Westliche Medizin / Sportmedizin
DESCRIPTION:Kursinhalte:\n\nUrgrund der Zelle/Zelllehre\nAnatomie: Skelett/Gelenke/Wirbelsäule/Gefäße/Nervensystem/Herz-Strukturen in Beziehung zu Leitbahnen\nPhysiologie: Atmung/Blut-/Lymphkreislauf\nErkrankungen/Schädigungen: Atmung/Knochen/Gelenke/Muskeln\nBiomechanik: am Gelenk\nBegleitende allgemeine Hinweise zur Trainingslehre\nPraktische Übungen\n\n  \n\n\n\n\n\n        \n        \n        \n        \n        \n        Kursanmeldung\n        \n    	\n        \n         [contact-form-7 id="871" title="Kursanmeldung"]
URL:http://wp.schulungshaeuser.de/kurs/westliche-medizin-sportmedizin/
LOCATION:Deutsche TUINA Akademie Königs Wusterhausen\, Dorfstr. 15\, Königs Wusterhausen\, Zernsdorf/OT Kablow Ziegelei\, 15712\, Deutschland
END:VEVENT
END:VCALENDAR